BEGIN:VCALENDAR
VERSION:2.0
PRODID:-//The Basement - ECPv6.15.20//NONSGML v1.0//EN
CALSCALE:GREGORIAN
METHOD:PUBLISH
X-WR-CALNAME:The Basement
X-ORIGINAL-URL:https://basement.gei.de
X-WR-CALDESC:Veranstaltungen für The Basement
REFRESH-INTERVAL;VALUE=DURATION:PT1H
X-Robots-Tag:noindex
X-PUBLISHED-TTL:PT1H
BEGIN:VTIMEZONE
TZID:Europe/Berlin
BEGIN:DAYLIGHT
TZOFFSETFROM:+0100
TZOFFSETTO:+0200
TZNAME:CEST
DTSTART:20200329T010000
END:DAYLIGHT
BEGIN:STANDARD
TZOFFSETFROM:+0200
TZOFFSETTO:+0100
TZNAME:CET
DTSTART:20201025T010000
END:STANDARD
BEGIN:DAYLIGHT
TZOFFSETFROM:+0100
TZOFFSETTO:+0200
TZNAME:CEST
DTSTART:20210328T010000
END:DAYLIGHT
BEGIN:STANDARD
TZOFFSETFROM:+0200
TZOFFSETTO:+0100
TZNAME:CET
DTSTART:20211031T010000
END:STANDARD
BEGIN:DAYLIGHT
TZOFFSETFROM:+0100
TZOFFSETTO:+0200
TZNAME:CEST
DTSTART:20220327T010000
END:DAYLIGHT
BEGIN:STANDARD
TZOFFSETFROM:+0200
TZOFFSETTO:+0100
TZNAME:CET
DTSTART:20221030T010000
END:STANDARD
END:VTIMEZONE
BEGIN:VEVENT
DTSTART;TZID=Europe/Berlin:20210304T170000
DTEND;TZID=Europe/Berlin:20210304T183000
DTSTAMP:20260424T135231
CREATED:20210412T082720Z
LAST-MODIFIED:20230119T131227Z
UID:2038-1614877200-1614882600@basement.gei.de
SUMMARY:Ernsthaft?!
DESCRIPTION:Hier finden Sie weitere Informationen zu der Veranstaltung.
URL:https://basement.gei.de/event/ernsthaft/
CATEGORIES:Veranstaltungen 1/2021
END:VEVENT
BEGIN:VEVENT
DTSTART;TZID=Europe/Berlin:20210318T170000
DTEND;TZID=Europe/Berlin:20210318T183000
DTSTAMP:20260424T135231
CREATED:20210412T082823Z
LAST-MODIFIED:20230119T131242Z
UID:2040-1616086800-1616092200@basement.gei.de
SUMMARY:Ernsthaft?!
DESCRIPTION:Hier finden Sie weitere Informationen zu der Veranstaltung.
URL:https://basement.gei.de/event/ernsthaft-2/
CATEGORIES:Veranstaltungen 1/2021
END:VEVENT
BEGIN:VEVENT
DTSTART;TZID=Europe/Berlin:20210323T183000
DTEND;TZID=Europe/Berlin:20210323T193000
DTSTAMP:20260424T135231
CREATED:20210412T082930Z
LAST-MODIFIED:20220824T131535Z
UID:2043-1616524200-1616527800@basement.gei.de
SUMMARY:Elternabend im Basement
DESCRIPTION:Hier finden Sie weitere Informationen zu der Veranstaltung.\n 
URL:https://basement.gei.de/event/elternabend-im-basement/
CATEGORIES:Veranstaltungen 1/2021
END:VEVENT
END:VCALENDAR