BEGIN:VCALENDAR
VERSION:2.0
PRODID:-//The Basement - ECPv6.15.20//NONSGML v1.0//EN
CALSCALE:GREGORIAN
METHOD:PUBLISH
X-ORIGINAL-URL:https://basement.gei.de
X-WR-CALDESC:Veranstaltungen für The Basement
REFRESH-INTERVAL;VALUE=DURATION:PT1H
X-Robots-Tag:noindex
X-PUBLISHED-TTL:PT1H
BEGIN:VTIMEZONE
TZID:Europe/Berlin
BEGIN:DAYLIGHT
TZOFFSETFROM:+0100
TZOFFSETTO:+0200
TZNAME:CEST
DTSTART:20200329T010000
END:DAYLIGHT
BEGIN:STANDARD
TZOFFSETFROM:+0200
TZOFFSETTO:+0100
TZNAME:CET
DTSTART:20201025T010000
END:STANDARD
BEGIN:DAYLIGHT
TZOFFSETFROM:+0100
TZOFFSETTO:+0200
TZNAME:CEST
DTSTART:20210328T010000
END:DAYLIGHT
BEGIN:STANDARD
TZOFFSETFROM:+0200
TZOFFSETTO:+0100
TZNAME:CET
DTSTART:20211031T010000
END:STANDARD
BEGIN:DAYLIGHT
TZOFFSETFROM:+0100
TZOFFSETTO:+0200
TZNAME:CEST
DTSTART:20220327T010000
END:DAYLIGHT
BEGIN:STANDARD
TZOFFSETFROM:+0200
TZOFFSETTO:+0100
TZNAME:CET
DTSTART:20221030T010000
END:STANDARD
END:VTIMEZONE
BEGIN:VEVENT
DTSTART;TZID=Europe/Berlin:20210610T163000
DTEND;TZID=Europe/Berlin:20210610T180000
DTSTAMP:20260424T090502
CREATED:20210412T083322Z
LAST-MODIFIED:20230825T105356Z
UID:2055-1623342600-1623348000@basement.gei.de
SUMMARY:Virtual Realities
DESCRIPTION:Über diesen Link gelangen Sie zu unserer aktuellen Veranstaltung zum Einsatz von VR im Geschichts- und Politikunterricht.
URL:https://basement.gei.de/event/virtual-realities/
CATEGORIES:Veranstaltungen 1/2021
END:VEVENT
BEGIN:VEVENT
DTSTART;VALUE=DATE:20210628
DTEND;VALUE=DATE:20210629
DTSTAMP:20260424T090502
CREATED:20210421T125401Z
LAST-MODIFIED:20220826T101218Z
UID:2118-1624838400-1624924799@basement.gei.de
SUMMARY:Der große Schuljahresrückblick im Basement
DESCRIPTION:Hier finden Sie weitere Informationen zu der Veranstaltung.
URL:https://basement.gei.de/event/der-grosse-schuljahresrueckblick-im-basement/
CATEGORIES:Veranstaltungen 1/2021
END:VEVENT
END:VCALENDAR