BEGIN:VCALENDAR
VERSION:2.0
PRODID:-//The Basement - ECPv6.15.20//NONSGML v1.0//EN
CALSCALE:GREGORIAN
METHOD:PUBLISH
X-ORIGINAL-URL:https://basement.gei.de
X-WR-CALDESC:Veranstaltungen für The Basement
REFRESH-INTERVAL;VALUE=DURATION:PT1H
X-Robots-Tag:noindex
X-PUBLISHED-TTL:PT1H
BEGIN:VTIMEZONE
TZID:Europe/Berlin
BEGIN:DAYLIGHT
TZOFFSETFROM:+0100
TZOFFSETTO:+0200
TZNAME:CEST
DTSTART:20200329T010000
END:DAYLIGHT
BEGIN:STANDARD
TZOFFSETFROM:+0200
TZOFFSETTO:+0100
TZNAME:CET
DTSTART:20201025T010000
END:STANDARD
BEGIN:DAYLIGHT
TZOFFSETFROM:+0100
TZOFFSETTO:+0200
TZNAME:CEST
DTSTART:20210328T010000
END:DAYLIGHT
BEGIN:STANDARD
TZOFFSETFROM:+0200
TZOFFSETTO:+0100
TZNAME:CET
DTSTART:20211031T010000
END:STANDARD
BEGIN:DAYLIGHT
TZOFFSETFROM:+0100
TZOFFSETTO:+0200
TZNAME:CEST
DTSTART:20220327T010000
END:DAYLIGHT
BEGIN:STANDARD
TZOFFSETFROM:+0200
TZOFFSETTO:+0100
TZNAME:CET
DTSTART:20221030T010000
END:STANDARD
END:VTIMEZONE
BEGIN:VEVENT
DTSTART;TZID=Europe/Berlin:20210920T170000
DTEND;TZID=Europe/Berlin:20210920T190000
DTSTAMP:20260424T041347
CREATED:20210630T130607Z
LAST-MODIFIED:20230825T105607Z
UID:3254-1632157200-1632164400@basement.gei.de
SUMMARY:Digitale Schnitzeljagd!
DESCRIPTION:Über diesen Link gelangen Sie zu unserer aktuellen Veranstaltung zum Einsatz von digitalen Schnitzeljagden im Unterricht
URL:https://basement.gei.de/event/digitale-schnitzeljagd-3/
CATEGORIES:Veranstaltungen 2/2021
END:VEVENT
BEGIN:VEVENT
DTSTART;TZID=Europe/Berlin:20210923T163000
DTEND;TZID=Europe/Berlin:20210923T180000
DTSTAMP:20260424T041347
CREATED:20210630T131023Z
LAST-MODIFIED:20230825T105650Z
UID:3258-1632414600-1632420000@basement.gei.de
SUMMARY:Virtual Realities
DESCRIPTION:Über diesen Link gelangen Sie zu unserer aktuellen Veranstaltung zum Einsatz von VR im Geschichts- und Politikunterricht.
URL:https://basement.gei.de/event/virtual-realities-2/
CATEGORIES:Veranstaltungen 2/2021
END:VEVENT
END:VCALENDAR