BEGIN:VCALENDAR
VERSION:2.0
PRODID:-//The Basement - ECPv6.15.20//NONSGML v1.0//EN
CALSCALE:GREGORIAN
METHOD:PUBLISH
X-ORIGINAL-URL:https://basement.gei.de
X-WR-CALDESC:Veranstaltungen für The Basement
REFRESH-INTERVAL;VALUE=DURATION:PT1H
X-Robots-Tag:noindex
X-PUBLISHED-TTL:PT1H
BEGIN:VTIMEZONE
TZID:Europe/Berlin
BEGIN:DAYLIGHT
TZOFFSETFROM:+0100
TZOFFSETTO:+0200
TZNAME:CEST
DTSTART:20200329T010000
END:DAYLIGHT
BEGIN:STANDARD
TZOFFSETFROM:+0200
TZOFFSETTO:+0100
TZNAME:CET
DTSTART:20201025T010000
END:STANDARD
BEGIN:DAYLIGHT
TZOFFSETFROM:+0100
TZOFFSETTO:+0200
TZNAME:CEST
DTSTART:20210328T010000
END:DAYLIGHT
BEGIN:STANDARD
TZOFFSETFROM:+0200
TZOFFSETTO:+0100
TZNAME:CET
DTSTART:20211031T010000
END:STANDARD
BEGIN:DAYLIGHT
TZOFFSETFROM:+0100
TZOFFSETTO:+0200
TZNAME:CEST
DTSTART:20220327T010000
END:DAYLIGHT
BEGIN:STANDARD
TZOFFSETFROM:+0200
TZOFFSETTO:+0100
TZNAME:CET
DTSTART:20221030T010000
END:STANDARD
END:VTIMEZONE
BEGIN:VEVENT
DTSTART;VALUE=DATE:20211001
DTEND;VALUE=DATE:20211201
DTSTAMP:20260424T010113
CREATED:20210630T131159Z
LAST-MODIFIED:20230119T131518Z
UID:3262-1633046400-1638316799@basement.gei.de
SUMMARY:Ausstellung: The Glass Room
DESCRIPTION:Hier finden Sie weitere Informationen zu der oben genannten Veranstaltung.
URL:https://basement.gei.de/event/ausstellung-the-glass-room/
CATEGORIES:Veranstaltungen 2/2021
END:VEVENT
BEGIN:VEVENT
DTSTART;TZID=Europe/Berlin:20211102T140000
DTEND;TZID=Europe/Berlin:20211102T180000
DTSTAMP:20260424T010113
CREATED:20210630T131239Z
LAST-MODIFIED:20230825T110056Z
UID:3264-1635861600-1635876000@basement.gei.de
SUMMARY:Vielfalt in der historischen Bildung
DESCRIPTION:  \nHier finden Sie weitere Informationen zu der oben genannten Veranstaltung.
URL:https://basement.gei.de/event/vielfalt-in-der-historischen-bildung/
CATEGORIES:Veranstaltungen 2/2021
END:VEVENT
BEGIN:VEVENT
DTSTART;TZID=Europe/Berlin:20211109T160000
DTEND;TZID=Europe/Berlin:20211109T190000
DTSTAMP:20260424T010113
CREATED:20210630T131405Z
LAST-MODIFIED:20230825T110403Z
UID:3268-1636473600-1636484400@basement.gei.de
SUMMARY:Back to normal!?
DESCRIPTION:Hier finden Sie weitere Informationen zu der oben genannten Veranstaltung.
URL:https://basement.gei.de/event/back-to-normal/
CATEGORIES:Veranstaltungen 2/2021
END:VEVENT
BEGIN:VEVENT
DTSTART;TZID=Europe/Berlin:20211118T170000
DTEND;TZID=Europe/Berlin:20211118T180000
DTSTAMP:20260424T010113
CREATED:20211008T082138Z
LAST-MODIFIED:20230825T114131Z
UID:4064-1637254800-1637258400@basement.gei.de
SUMMARY:Information… it’s complicated
DESCRIPTION:Hier finden Sie weitere Informationen zu der oben genannten Veranstaltung.
URL:https://basement.gei.de/event/on-deepfakes-and-twitter-bots-how-to-detect-misinformation/
CATEGORIES:Veranstaltungen 2/2021
END:VEVENT
BEGIN:VEVENT
DTSTART;TZID=Europe/Berlin:20211130T160000
DTEND;TZID=Europe/Berlin:20211130T180000
DTSTAMP:20260424T010113
CREATED:20210630T131717Z
LAST-MODIFIED:20230825T110723Z
UID:3278-1638288000-1638295200@basement.gei.de
SUMMARY:Media upside-down
DESCRIPTION:Hier finden Sie weitere Informationen zu der oben genannten Veranstaltung.
URL:https://basement.gei.de/event/media-upside-down/
CATEGORIES:Veranstaltungen 2/2021
END:VEVENT
END:VCALENDAR