BEGIN:VCALENDAR
VERSION:2.0
PRODID:-//The Basement - ECPv6.15.20//NONSGML v1.0//EN
CALSCALE:GREGORIAN
METHOD:PUBLISH
X-ORIGINAL-URL:https://basement.gei.de
X-WR-CALDESC:Veranstaltungen für The Basement
REFRESH-INTERVAL;VALUE=DURATION:PT1H
X-Robots-Tag:noindex
X-PUBLISHED-TTL:PT1H
BEGIN:VTIMEZONE
TZID:Europe/Berlin
BEGIN:DAYLIGHT
TZOFFSETFROM:+0100
TZOFFSETTO:+0200
TZNAME:CEST
DTSTART:20210328T010000
END:DAYLIGHT
BEGIN:STANDARD
TZOFFSETFROM:+0200
TZOFFSETTO:+0100
TZNAME:CET
DTSTART:20211031T010000
END:STANDARD
BEGIN:DAYLIGHT
TZOFFSETFROM:+0100
TZOFFSETTO:+0200
TZNAME:CEST
DTSTART:20220327T010000
END:DAYLIGHT
BEGIN:STANDARD
TZOFFSETFROM:+0200
TZOFFSETTO:+0100
TZNAME:CET
DTSTART:20221030T010000
END:STANDARD
BEGIN:DAYLIGHT
TZOFFSETFROM:+0100
TZOFFSETTO:+0200
TZNAME:CEST
DTSTART:20230326T010000
END:DAYLIGHT
BEGIN:STANDARD
TZOFFSETFROM:+0200
TZOFFSETTO:+0100
TZNAME:CET
DTSTART:20231029T010000
END:STANDARD
END:VTIMEZONE
BEGIN:VEVENT
DTSTART;TZID=Europe/Berlin:20220309T160000
DTEND;TZID=Europe/Berlin:20220309T180000
DTSTAMP:20260423T184953
CREATED:20210630T131525Z
LAST-MODIFIED:20230825T111913Z
UID:3272-1646841600-1646848800@basement.gei.de
SUMMARY:Bildung in der digitalen Welt
DESCRIPTION:Hier finden Sie weitere Informationen zu der oben genannten Veranstaltung.
URL:https://basement.gei.de/event/bildung-in-der-digitalen-welt/
CATEGORIES:Veranstaltungen 1/2022
END:VEVENT
BEGIN:VEVENT
DTSTART;TZID=Europe/Berlin:20220310T163000
DTEND;TZID=Europe/Berlin:20220310T180000
DTSTAMP:20260423T184953
CREATED:20210630T131319Z
LAST-MODIFIED:20230825T111755Z
UID:3266-1646929800-1646935200@basement.gei.de
SUMMARY:Serious Games im Geschichtsunterricht
DESCRIPTION:Über diesen Link gelangen Sie zu unserer aktuellen Veranstaltung zum Einsatz von (Serious) Games im Geschichtsunterricht
URL:https://basement.gei.de/event/serious-games-serious-playing/
CATEGORIES:Veranstaltungen 1/2022
END:VEVENT
END:VCALENDAR