BEGIN:VCALENDAR
VERSION:2.0
PRODID:-//The Basement - ECPv6.15.20//NONSGML v1.0//EN
CALSCALE:GREGORIAN
METHOD:PUBLISH
X-ORIGINAL-URL:https://basement.gei.de
X-WR-CALDESC:Veranstaltungen für The Basement
REFRESH-INTERVAL;VALUE=DURATION:PT1H
X-Robots-Tag:noindex
X-PUBLISHED-TTL:PT1H
BEGIN:VTIMEZONE
TZID:Europe/Berlin
BEGIN:DAYLIGHT
TZOFFSETFROM:+0100
TZOFFSETTO:+0200
TZNAME:CEST
DTSTART:20210328T010000
END:DAYLIGHT
BEGIN:STANDARD
TZOFFSETFROM:+0200
TZOFFSETTO:+0100
TZNAME:CET
DTSTART:20211031T010000
END:STANDARD
BEGIN:DAYLIGHT
TZOFFSETFROM:+0100
TZOFFSETTO:+0200
TZNAME:CEST
DTSTART:20220327T010000
END:DAYLIGHT
BEGIN:STANDARD
TZOFFSETFROM:+0200
TZOFFSETTO:+0100
TZNAME:CET
DTSTART:20221030T010000
END:STANDARD
BEGIN:DAYLIGHT
TZOFFSETFROM:+0100
TZOFFSETTO:+0200
TZNAME:CEST
DTSTART:20230326T010000
END:DAYLIGHT
BEGIN:STANDARD
TZOFFSETFROM:+0200
TZOFFSETTO:+0100
TZNAME:CET
DTSTART:20231029T010000
END:STANDARD
END:VTIMEZONE
BEGIN:VEVENT
DTSTART;TZID=Europe/Berlin:20220608T160000
DTEND;TZID=Europe/Berlin:20220608T180000
DTSTAMP:20260423T142027
CREATED:20220411T115620Z
LAST-MODIFIED:20230825T112204Z
UID:4680-1654704000-1654711200@basement.gei.de
SUMMARY:Virtual Realities
DESCRIPTION:Über diesen Link gelangen Sie zu unserer aktuellen Veranstaltung zum Einsatz von VR im Geschichts- und Politikunterricht
URL:https://basement.gei.de/event/virtual-realities-3/
LOCATION:The Basement\, Freisestr. 1\, Braunschweig\, 38118
CATEGORIES:Veranstaltungen 2/2022
END:VEVENT
BEGIN:VEVENT
DTSTART;TZID=Europe/Berlin:20220614T153000
DTEND;TZID=Europe/Berlin:20220614T183000
DTSTAMP:20260423T142027
CREATED:20220411T120016Z
LAST-MODIFIED:20230825T112255Z
UID:4671-1655220600-1655231400@basement.gei.de
SUMMARY:Serious Games im Geschichtsunterricht
DESCRIPTION:Über diesen Link gelangen Sie zu unserer aktuellen Veranstaltung zum Einsatz von (Serious) Games im Geschichtsunterricht
URL:https://basement.gei.de/event/serious-games-im-geschichtsunterricht/
LOCATION:The Basement\, Freisestr. 1\, Braunschweig\, 38118
CATEGORIES:Veranstaltungen 2/2022
END:VEVENT
BEGIN:VEVENT
DTSTART;TZID=Europe/Berlin:20220615T170000
DTEND;TZID=Europe/Berlin:20220615T190000
DTSTAMP:20260423T142027
CREATED:20220411T115915Z
LAST-MODIFIED:20230825T112343Z
UID:4667-1655312400-1655319600@basement.gei.de
SUMMARY:Digitale Schnitzeljagd
DESCRIPTION:Über diesen Link gelangen Sie zu unserer aktuellen Veranstaltung zum Einsatz von digitalen Schnitzeljagden im Unterricht
URL:https://basement.gei.de/event/digitale-schnitzeljagd-2/
LOCATION:The Basement\, Freisestr. 1\, Braunschweig\, 38118
CATEGORIES:Veranstaltungen 2/2022
END:VEVENT
BEGIN:VEVENT
DTSTART;TZID=Europe/Berlin:20220620T160000
DTEND;TZID=Europe/Berlin:20220620T180000
DTSTAMP:20260423T142027
CREATED:20220411T120128Z
LAST-MODIFIED:20230825T112427Z
UID:4673-1655740800-1655748000@basement.gei.de
SUMMARY:#stories @lessons
DESCRIPTION:Über diesen Link gelangen Sie zu unserer aktuellen Veranstaltung zum Thema Digital Storytelling und Social Media im Unterricht
URL:https://basement.gei.de/event/storieslessons-2/
LOCATION:The Basement\, Freisestr. 1\, Braunschweig\, 38118
CATEGORIES:Veranstaltungen 2/2022
END:VEVENT
BEGIN:VEVENT
DTSTART;TZID=Europe/Berlin:20220623T153000
DTEND;TZID=Europe/Berlin:20220623T183000
DTSTAMP:20260423T142027
CREATED:20220411T115427Z
LAST-MODIFIED:20230119T131944Z
UID:4678-1655998200-1656009000@basement.gei.de
SUMMARY:Open Basement
DESCRIPTION:Hier finden Sie weitere Informationen zu der Veranstaltung.
URL:https://basement.gei.de/event/open-basement/
LOCATION:The Basement\, Freisestr. 1\, Braunschweig\, 38118
CATEGORIES:Veranstaltungen 2/2022
END:VEVENT
BEGIN:VEVENT
DTSTART;TZID=Europe/Berlin:20220628T130000
DTEND;TZID=Europe/Berlin:20220628T183000
DTSTAMP:20260423T142027
CREATED:20220412T091729Z
LAST-MODIFIED:20230825T112812Z
UID:4758-1656421200-1656441000@basement.gei.de
SUMMARY:Was tun (mit) Medien?
DESCRIPTION:Über diesen Link gelangen Sie zu unserer aktuellen Veranstaltung\, in der Methoden der Medienreflexion besprochen und diskutiert werden
URL:https://basement.gei.de/event/was-tun-mit-medien/
LOCATION:The Basement\, Freisestr. 1\, Braunschweig\, 38118
CATEGORIES:Veranstaltungen 2/2022
END:VEVENT
END:VCALENDAR