BEGIN:VCALENDAR
VERSION:2.0
PRODID:-//The Basement - ECPv6.15.20//NONSGML v1.0//EN
CALSCALE:GREGORIAN
METHOD:PUBLISH
X-ORIGINAL-URL:https://basement.gei.de
X-WR-CALDESC:Veranstaltungen für The Basement
REFRESH-INTERVAL;VALUE=DURATION:PT1H
X-Robots-Tag:noindex
X-PUBLISHED-TTL:PT1H
BEGIN:VTIMEZONE
TZID:Europe/Berlin
BEGIN:DAYLIGHT
TZOFFSETFROM:+0100
TZOFFSETTO:+0200
TZNAME:CEST
DTSTART:20210328T010000
END:DAYLIGHT
BEGIN:STANDARD
TZOFFSETFROM:+0200
TZOFFSETTO:+0100
TZNAME:CET
DTSTART:20211031T010000
END:STANDARD
BEGIN:DAYLIGHT
TZOFFSETFROM:+0100
TZOFFSETTO:+0200
TZNAME:CEST
DTSTART:20220327T010000
END:DAYLIGHT
BEGIN:STANDARD
TZOFFSETFROM:+0200
TZOFFSETTO:+0100
TZNAME:CET
DTSTART:20221030T010000
END:STANDARD
BEGIN:DAYLIGHT
TZOFFSETFROM:+0100
TZOFFSETTO:+0200
TZNAME:CEST
DTSTART:20230326T010000
END:DAYLIGHT
BEGIN:STANDARD
TZOFFSETFROM:+0200
TZOFFSETTO:+0100
TZNAME:CET
DTSTART:20231029T010000
END:STANDARD
END:VTIMEZONE
BEGIN:VEVENT
DTSTART;TZID=Europe/Berlin:20220714T100000
DTEND;TZID=Europe/Berlin:20220714T150000
DTSTAMP:20260423T130430
CREATED:20220428T100523Z
LAST-MODIFIED:20230825T112856Z
UID:4922-1657792800-1657810800@basement.gei.de
SUMMARY:Reclaim Social Media!
DESCRIPTION:Hier finden Sie weitere Informationen zu der Veranstaltung.
URL:https://basement.gei.de/event/reclaim-social-media/
LOCATION:The Basement\, Freisestr. 1\, Braunschweig\, 38118
CATEGORIES:Veranstaltungen 2/2022
END:VEVENT
BEGIN:VEVENT
DTSTART;TZID=Europe/Berlin:20220715T100000
DTEND;TZID=Europe/Berlin:20220715T150000
DTSTAMP:20260423T130430
CREATED:20220428T100749Z
LAST-MODIFIED:20230825T112932Z
UID:4925-1657879200-1657897200@basement.gei.de
SUMMARY:Reclaim Social Media!
DESCRIPTION:Hier finden Sie weitere Informationen zu der Veranstaltung.
URL:https://basement.gei.de/event/reclaim-social-media-2/
LOCATION:The Basement\, Freisestr. 1\, Braunschweig\, 38118
CATEGORIES:Veranstaltungen 2/2022
END:VEVENT
END:VCALENDAR