BEGIN:VCALENDAR
VERSION:2.0
PRODID:-//The Basement - ECPv6.15.20//NONSGML v1.0//EN
CALSCALE:GREGORIAN
METHOD:PUBLISH
X-ORIGINAL-URL:https://basement.gei.de
X-WR-CALDESC:Veranstaltungen für The Basement
REFRESH-INTERVAL;VALUE=DURATION:PT1H
X-Robots-Tag:noindex
X-PUBLISHED-TTL:PT1H
BEGIN:VTIMEZONE
TZID:Europe/Berlin
BEGIN:DAYLIGHT
TZOFFSETFROM:+0100
TZOFFSETTO:+0200
TZNAME:CEST
DTSTART:20210328T010000
END:DAYLIGHT
BEGIN:STANDARD
TZOFFSETFROM:+0200
TZOFFSETTO:+0100
TZNAME:CET
DTSTART:20211031T010000
END:STANDARD
BEGIN:DAYLIGHT
TZOFFSETFROM:+0100
TZOFFSETTO:+0200
TZNAME:CEST
DTSTART:20220327T010000
END:DAYLIGHT
BEGIN:STANDARD
TZOFFSETFROM:+0200
TZOFFSETTO:+0100
TZNAME:CET
DTSTART:20221030T010000
END:STANDARD
BEGIN:DAYLIGHT
TZOFFSETFROM:+0100
TZOFFSETTO:+0200
TZNAME:CEST
DTSTART:20230326T010000
END:DAYLIGHT
BEGIN:STANDARD
TZOFFSETFROM:+0200
TZOFFSETTO:+0100
TZNAME:CET
DTSTART:20231029T010000
END:STANDARD
END:VTIMEZONE
BEGIN:VEVENT
DTSTART;TZID=Europe/Berlin:20221005T130000
DTEND;TZID=Europe/Berlin:20221005T183000
DTSTAMP:20260421T135430
CREATED:20220824T124159Z
LAST-MODIFIED:20220825T122810Z
UID:5494-1664974800-1664994600@basement.gei.de
SUMMARY:Was tun (mit) Medien?
DESCRIPTION:Hier finden Sie weitere Informationen zu der Veranstaltung.
URL:https://basement.gei.de/event/was-tun-mit-medien-2/
LOCATION:The Basement\, Freisestr. 1\, Braunschweig\, 38118
CATEGORIES:Veranstaltungen 3/2022
END:VEVENT
BEGIN:VEVENT
DTSTART;TZID=Europe/Berlin:20221006T153000
DTEND;TZID=Europe/Berlin:20221006T183000
DTSTAMP:20260421T135430
CREATED:20220824T124124Z
LAST-MODIFIED:20230825T113206Z
UID:5492-1665070200-1665081000@basement.gei.de
SUMMARY:#stories @lessons
DESCRIPTION:Über diesen Link gelangen Sie zu unserer aktuellen Veranstaltung zum Thema Digital Storytelling und Social Media im Unterricht
URL:https://basement.gei.de/event/stories-lessons-3/
LOCATION:The Basement\, Freisestr. 1\, Braunschweig\, 38118
CATEGORIES:Veranstaltungen 3/2022
END:VEVENT
END:VCALENDAR