BEGIN:VCALENDAR
VERSION:2.0
PRODID:-//The Basement - ECPv6.15.20//NONSGML v1.0//EN
CALSCALE:GREGORIAN
METHOD:PUBLISH
X-ORIGINAL-URL:https://basement.gei.de
X-WR-CALDESC:Veranstaltungen für The Basement
REFRESH-INTERVAL;VALUE=DURATION:PT1H
X-Robots-Tag:noindex
X-PUBLISHED-TTL:PT1H
BEGIN:VTIMEZONE
TZID:Europe/Berlin
BEGIN:DAYLIGHT
TZOFFSETFROM:+0100
TZOFFSETTO:+0200
TZNAME:CEST
DTSTART:20210328T010000
END:DAYLIGHT
BEGIN:STANDARD
TZOFFSETFROM:+0200
TZOFFSETTO:+0100
TZNAME:CET
DTSTART:20211031T010000
END:STANDARD
BEGIN:DAYLIGHT
TZOFFSETFROM:+0100
TZOFFSETTO:+0200
TZNAME:CEST
DTSTART:20220327T010000
END:DAYLIGHT
BEGIN:STANDARD
TZOFFSETFROM:+0200
TZOFFSETTO:+0100
TZNAME:CET
DTSTART:20221030T010000
END:STANDARD
BEGIN:DAYLIGHT
TZOFFSETFROM:+0100
TZOFFSETTO:+0200
TZNAME:CEST
DTSTART:20230326T010000
END:DAYLIGHT
BEGIN:STANDARD
TZOFFSETFROM:+0200
TZOFFSETTO:+0100
TZNAME:CET
DTSTART:20231029T010000
END:STANDARD
END:VTIMEZONE
BEGIN:VEVENT
DTSTART;TZID=Europe/Berlin:20221109T150000
DTEND;TZID=Europe/Berlin:20221109T180000
DTSTAMP:20260421T122123
CREATED:20220824T124238Z
LAST-MODIFIED:20230825T113244Z
UID:5496-1668006000-1668016800@basement.gei.de
SUMMARY:Serious Games im Geschichtsunterricht
DESCRIPTION:Über diesen Link gelangen Sie zu unserer aktuellen Veranstaltung zum Einsatz von (Serious) Games im Geschichtsunterricht
URL:https://basement.gei.de/event/serious-games-im-geschichtsunterricht-2/
LOCATION:The Basement\, Freisestr. 1\, Braunschweig\, 38118
CATEGORIES:Veranstaltungen 3/2022
END:VEVENT
BEGIN:VEVENT
DTSTART;TZID=Europe/Berlin:20221116T140000
DTEND;TZID=Europe/Berlin:20221116T180000
DTSTAMP:20260421T122123
CREATED:20220824T124441Z
LAST-MODIFIED:20230825T113348Z
UID:5500-1668607200-1668621600@basement.gei.de
SUMMARY:Die Herausforderung von Fake News und Desinformation
DESCRIPTION:Über diesen Link gelangen Sie zu unserer aktuellen Veranstaltung über die Verbreitung und Entlarvung von Fake News und Desinformationen 
URL:https://basement.gei.de/event/die-herausforderung-von-fake-news-und-desinformation/
LOCATION:The Basement\, Freisestr. 1\, Braunschweig\, 38118
CATEGORIES:Veranstaltungen 3/2022
END:VEVENT
END:VCALENDAR